BEGIN:VCALENDAR
VERSION:2.0
PRODID:-//hacksw/handcal//NONSGML v1.0//EN
BEGIN:VEVENT
SUMMARY:Ucup 2026 a Cely
UID:fc09799b-5299-4e32-b49a-21b659ca3d87
DTSTART:20260327T230000Z
DTEND:20260328T230000Z
LOCATION:Localisation   
CATEGORIES:Sportif
STATUS:
DESCRIPTION:<p>1ere journee de la Ucup 2026 a Cely le samedi 28
 mars.</p>
 
 <p>Depart en ligne, 6 joueurs maximum.</p>
 
 <p>Cette
 rencontre se disputera en simple stableford. </p>
 
 <p>tarif Uasg
 indicatif : 30 € (55€ moins une subvention UASG de
 25€).</p>
 
 <p>Conditions particulieres pour les abonnes 7/7 Ugolf :
 0€ (15€ moins une subvention UASG de 15€).</p>
 
 <p>Repas
 optionnel sur place, a reserver au golf directement.</p>
 
 <p>Debut
 inscriptions : 15 mars</p>
 
 <p>cloture inscriptions : 21 mars</p>
URL;VALUE=URI:https://uasg.sportsregions.fr/evenements/2026/03/28/ucup-2026-a-cely-2428746
END:VEVENT
END:VCALENDAR
