BEGIN:VCALENDAR
VERSION:2.0
PRODID:-//hacksw/handcal//NONSGML v1.0//EN
BEGIN:VEVENT
SUMMARY:Navigation sur Akela Bretagne Sud
UID:930b2256-b96f-4bab-a80f-5ab0b96ade43
DTSTART:20260410T220000Z
DTEND:20260412T220000Z
LOCATION:Localisation   
CATEGORIES:Sportif
STATUS:
DESCRIPTION:<p>En fonction des souhaits des participants et de la
 meteo.</p>
 
 <p>Manœuvres de port, envoi de spi, prises de ris,
 possibilite d’aller passer la nuit a Groix ou a Belle-Ile.</p>
URL;VALUE=URI:https://uasg.sportsregions.fr/evenements/2026/04/11/navigation-sur-akela-bretagne-sud-2425865
END:VEVENT
END:VCALENDAR
